BEGIN:VCALENDAR
VERSION:2.0
PRODID:-//wp-events-plugin.com//6.6.4.4//EN
TZID:Europe/Berlin
X-WR-TIMEZONE:Europe/Berlin
BEGIN:VEVENT
UID:492@kirche-gc.de
DTSTART;TZID=Europe/Madrid:20230223T200000
DTEND;TZID=Europe/Madrid:20230223T213000
DTSTAMP:20230221T001103Z
URL:https://www.kirche-gc.de/events/abendmusik-mit-choeren-und-solisten/
SUMMARY:Abendmusik mit Chören und Solisten
DESCRIPTION:Abendmusik mit Chören und Solisten\n
END:VEVENT
BEGIN:VTIMEZONE
TZID:Europe/Madrid
X-LIC-LOCATION:Europe/Madrid
BEGIN:STANDARD
DTSTART:20221030T020000
TZOFFSETFROM:+0200
TZOFFSETTO:+0100
TZNAME:CET
END:STANDARD
END:VTIMEZONE
END:VCALENDAR