BEGIN:VCALENDAR
VERSION:2.0
PRODID:-//wp-events-plugin.com//6.6.4.4//EN
TZID:Europe/Berlin
X-WR-TIMEZONE:Europe/Berlin
BEGIN:VEVENT
UID:640@kirche-gc.de
DTSTART;TZID=Europe/Lisbon;VALUE=DATE:20251113
DTEND;TZID=Europe/Lisbon;VALUE=DATE:20251114
DTSTAMP:20251026T185914Z
URL:https://www.kirche-gc.de/events/ausflug-am-donnerstag-10/
SUMMARY:Ausflug am Donnerstag
DESCRIPTION:Ausflug am Donnerstag\nAgaete\, Besuch der Kaffeeplantage La La
 ja und Puerto de las Nieves - \nAnmeldung über unser Büro\n\n&nbsp\;
END:VEVENT
BEGIN:VTIMEZONE
TZID:Europe/Lisbon
X-LIC-LOCATION:Europe/Lisbon
BEGIN:STANDARD
DTSTART:20251026T010000
TZOFFSETFROM:+0100
TZOFFSETTO:+0000
TZNAME:WET
END:STANDARD
END:VTIMEZONE
END:VCALENDAR