BEGIN:VCALENDAR
VERSION:2.0
PRODID:-//wp-events-plugin.com//6.6.4.4//EN
TZID:Europe/Berlin
X-WR-TIMEZONE:Europe/Berlin
BEGIN:VEVENT
UID:397@kirche-gc.de
DTSTART;TZID=Europe/Berlin;VALUE=DATE:20221103
DTEND;TZID=Europe/Berlin;VALUE=DATE:20221104
DTSTAMP:20221028T105715Z
URL:https://www.kirche-gc.de/events/ausflug-der-westen-gran-canarias-2/
SUMMARY:Ausflug  - Der Westen Gran Canarias
DESCRIPTION:Ausflug am Donnerstag\, 3. November 2022 - Der Westen Gran Cana
 rias \nMogan - Besuch des Cactualdea Parkes - Mittagessen in Puerto de L
 a Aldea - Mirador del balcón:\nAnmeldung übers Büro \n
END:VEVENT
BEGIN:VTIMEZONE
TZID:Europe/Berlin
X-LIC-LOCATION:Europe/Berlin
BEGIN:STANDARD
DTSTART:20221030T020000
TZOFFSETFROM:+0200
TZOFFSETTO:+0100
TZNAME:CET
END:STANDARD
END:VTIMEZONE
END:VCALENDAR