BEGIN:VCALENDAR
VERSION:2.0
PRODID:-//wp-events-plugin.com//6.6.4.4//EN
TZID:Europe/Berlin
X-WR-TIMEZONE:Europe/Berlin
BEGIN:VEVENT
UID:319@kirche-gc.de
DTSTART;TZID=Europe/Berlin;VALUE=DATE:20190411
DTEND;TZID=Europe/Berlin;VALUE=DATE:20190412
DTSTAMP:20190320T204449Z
URL:https://www.kirche-gc.de/events/ausflug-entdeckertour/
SUMMARY:Ausflug „Entdeckertour“
DESCRIPTION:Ausflug „Entdeckertour“\nInselrundfahrt zu den verborgenen 
 Schätzen\nGran Canarias – Arinaga\, San Cristobál\, Lagune\, Agaete\,
  Aldea\n(Anmeldung im Büro)\n
END:VEVENT
BEGIN:VTIMEZONE
TZID:Europe/Berlin
X-LIC-LOCATION:Europe/Berlin
BEGIN:DAYLIGHT
DTSTART:20190331T030000
TZOFFSETFROM:+0100
TZOFFSETTO:+0200
TZNAME:CEST
END:DAYLIGHT
END:VTIMEZONE
END:VCALENDAR