BEGIN:VCALENDAR
VERSION:2.0
PRODID:-//wp-events-plugin.com//6.6.4.4//EN
TZID:Europe/Berlin
X-WR-TIMEZONE:Europe/Berlin
BEGIN:VEVENT
UID:250@kirche-gc.de
DTSTART;TZID=Europe/Berlin;VALUE=DATE:20180118
DTEND;TZID=Europe/Berlin;VALUE=DATE:20180119
DTSTAMP:20171226T112627Z
URL:https://www.kirche-gc.de/events/ausflug-mandelbluetenfahrt-1/
SUMMARY:Ausflug "Mandelblütenfahrt 1"
DESCRIPTION:\n\nAnmeldung im Pfarrbüro
END:VEVENT
BEGIN:VTIMEZONE
TZID:Europe/Berlin
X-LIC-LOCATION:Europe/Berlin
BEGIN:STANDARD
DTSTART:20171029T020000
TZOFFSETFROM:+0200
TZOFFSETTO:+0100
TZNAME:CET
END:STANDARD
END:VTIMEZONE
END:VCALENDAR