BEGIN:VCALENDAR
VERSION:2.0
PRODID:-//wp-events-plugin.com//6.6.4.4//EN
TZID:Europe/Berlin
X-WR-TIMEZONE:Europe/Berlin
BEGIN:VEVENT
UID:522@kirche-gc.de
DTSTART;TZID=Europe/Madrid:20231202T130000
DTEND;TZID=Europe/Madrid:20231202T150000
DTSTAMP:20231026T114653Z
URL:https://www.kirche-gc.de/events/backclub-sol-y-mar/
SUMMARY:Backclub Sol y Mar
DESCRIPTION:Backclub Sol y Mar\n\nSamstag\, 2.12. ab 13.00 Uhr in der Calle
  Gomera\nAnmeldung über unser Büro
LOCATION:Gemeindezentrum\, Calle Gomera 69\, 35100 San Fernando\, Spanien
GEO:27.767895;-15.585941
X-APPLE-STRUCTURED-LOCATION;VALUE=URI;X-ADDRESS=Calle Gomera 69\, 35100 San
  Fernando\, Spanien;X-APPLE-RADIUS=100;X-TITLE=Gemeindezentrum:geo:27.7678
 95,-15.585941
END:VEVENT
BEGIN:VTIMEZONE
TZID:Europe/Madrid
X-LIC-LOCATION:Europe/Madrid
BEGIN:STANDARD
DTSTART:20231029T020000
TZOFFSETFROM:+0200
TZOFFSETTO:+0100
TZNAME:CET
END:STANDARD
END:VTIMEZONE
END:VCALENDAR