BEGIN:VCALENDAR
VERSION:2.0
PRODID:-//wp-events-plugin.com//6.6.4.4//EN
TZID:Europe/Berlin
X-WR-TIMEZONE:Europe/Berlin
BEGIN:VEVENT
UID:320@kirche-gc.de
DTSTART;TZID=Europe/Berlin:20190418T180000
DTEND;TZID=Europe/Berlin:20190418T210000
DTSTAMP:20190320T204810Z
URL:https://www.kirche-gc.de/events/feierabendmahl-am-gruendonnerstag-mit-
 gemeinsamen-abendessen/
SUMMARY:Feierabendmahl am Gründonnerstag mit gemeinsamen Abendessen
DESCRIPTION:Feierabendmahl am Gründonnerstag mit gemeinsamen Abendessen\n
 im Patio des Gemeindezentrums\n(Anmeldung im Büro)\n
LOCATION:Gemeindezentrum\, Calle Gomera 69\, 35100 San Fernando\, Spanien
GEO:27.767895;-15.585941
X-APPLE-STRUCTURED-LOCATION;VALUE=URI;X-ADDRESS=Calle Gomera 69\, 35100 San
  Fernando\, Spanien;X-APPLE-RADIUS=100;X-TITLE=Gemeindezentrum:geo:27.7678
 95,-15.585941
END:VEVENT
BEGIN:VTIMEZONE
TZID:Europe/Berlin
X-LIC-LOCATION:Europe/Berlin
BEGIN:DAYLIGHT
DTSTART:20190331T030000
TZOFFSETFROM:+0100
TZOFFSETTO:+0200
TZNAME:CEST
END:DAYLIGHT
END:VTIMEZONE
END:VCALENDAR