BEGIN:VCALENDAR
VERSION:2.0
PRODID:-//wp-events-plugin.com//6.6.4.4//EN
TZID:Europe/Berlin
X-WR-TIMEZONE:Europe/Berlin
BEGIN:VEVENT
UID:473@kirche-gc.de
DTSTART;TZID=Europe/Lisbon:20221124T160000
DTEND;TZID=Europe/Lisbon:20221124T170000
DTSTAMP:20221118T125614Z
URL:https://www.kirche-gc.de/events/klassische-musik-am-nachmittag-2/
SUMMARY:Klassische Musik am Nachmittag
DESCRIPTION:„Klassische Musik am Nachmittag“\nFrederic Chopin\nPiano un
 d Orgel: Roman Ponomarev\n\nam Donnerstag\, den 24.11.\nvon 16.00 – 17.
 00 Uhr im Templo Ecuménico\n\n&nbsp\;\n\n&nbsp\;\n
LOCATION:Templo Ecuménico el Salvador\, Avda. de Italia\, Maspalomas\, Spa
 nien
GEO:27.7616949;-15.564927099999977
X-APPLE-STRUCTURED-LOCATION;VALUE=URI;X-ADDRESS=Avda. de Italia\, Maspaloma
 s\, Spanien;X-APPLE-RADIUS=100;X-TITLE=Templo Ecuménico el Salvador:geo:2
 7.7616949,-15.564927099999977
END:VEVENT
BEGIN:VTIMEZONE
TZID:Europe/Lisbon
X-LIC-LOCATION:Europe/Lisbon
BEGIN:STANDARD
DTSTART:20221030T010000
TZOFFSETFROM:+0100
TZOFFSETTO:+0000
TZNAME:WET
END:STANDARD
END:VTIMEZONE
END:VCALENDAR