BEGIN:VCALENDAR
VERSION:2.0
PRODID:-//wp-events-plugin.com//6.6.4.4//EN
TZID:Europe/Berlin
X-WR-TIMEZONE:Europe/Berlin
BEGIN:VEVENT
UID:563@kirche-gc.de
DTSTART;TZID=Europe/Madrid:20231228T153000
DTEND;TZID=Europe/Madrid:20231228T163000
DTSTAMP:20231204T165749Z
URL:https://www.kirche-gc.de/events/klassische-musik-am-nachmittag-im-temp
 lo-ecumenico/
SUMMARY:Klassische Musik am Nachmittag im Templo Ecuménico
DESCRIPTION:Klassische Musik am Nachmittag im Templo Ecuménico\nEs spielt 
 Roman Ponomarev\nSchumann\, Thaikowsky und Bach\n
LOCATION:Templo Ecuménico el Salvador\, Avda. de Italia\, Maspalomas\, Spa
 nien
GEO:27.7616949;-15.564927099999977
X-APPLE-STRUCTURED-LOCATION;VALUE=URI;X-ADDRESS=Avda. de Italia\, Maspaloma
 s\, Spanien;X-APPLE-RADIUS=100;X-TITLE=Templo Ecuménico el Salvador:geo:2
 7.7616949,-15.564927099999977
END:VEVENT
BEGIN:VTIMEZONE
TZID:Europe/Madrid
X-LIC-LOCATION:Europe/Madrid
BEGIN:STANDARD
DTSTART:20231029T020000
TZOFFSETFROM:+0200
TZOFFSETTO:+0100
TZNAME:CET
END:STANDARD
END:VTIMEZONE
END:VCALENDAR