BEGIN:VCALENDAR
VERSION:2.0
PRODID:-//wp-events-plugin.com//6.6.4.4//EN
TZID:Europe/Berlin
X-WR-TIMEZONE:Europe/Berlin
BEGIN:VEVENT
UID:638@kirche-gc.de
DTSTART;TZID=Europe/Lisbon:20251114T173000
DTEND;TZID=Europe/Lisbon:20251128T190000
DTSTAMP:20251130T111828Z
URL:https://www.kirche-gc.de/events/leichte-internationale-folkloretaenze-
 mit-peter-4/
SUMMARY:Leichte internationale Folkloretänze mit Peter
DESCRIPTION:Leichte internationale Folkloretänze mit Peter\n&nbsp\;\n\n&nb
 sp\;\nFreitag 14.11.\, 21.11. und 28.11. um 17.30 Uhr\, \nParque Europeo (
 wo mittwochs und samstags der Markt stattfindet). \nKein Tanzpartner erfor
 derlich.
END:VEVENT
BEGIN:VTIMEZONE
TZID:Europe/Lisbon
X-LIC-LOCATION:Europe/Lisbon
BEGIN:STANDARD
DTSTART:20251026T010000
TZOFFSETFROM:+0100
TZOFFSETTO:+0000
TZNAME:WET
END:STANDARD
END:VTIMEZONE
END:VCALENDAR