BEGIN:VCALENDAR
VERSION:2.0
PRODID:-//wp-events-plugin.com//6.6.4.4//EN
TZID:Europe/Berlin
X-WR-TIMEZONE:Europe/Berlin
BEGIN:VEVENT
UID:336@kirche-gc.de
DTSTART;TZID=Europe/Berlin:20200104T000000
DTEND;TZID=Europe/Berlin:20200104T190000
DTSTAMP:20191229T172634Z
URL:https://www.kirche-gc.de/events/lichtbildervortrag-eine-wanderreise-du
 rch-marokko-jutta-wilms/
SUMMARY:Lichtbildervortrag „Eine Wanderreise durch Marokko“\, Jutta Wil
 ms
DESCRIPTION:Lichtbildervortrag „Eine Wanderreise durch Marokko“\,\n
 Jutta Wilms\n
LOCATION:Gemeindezentrum\, Calle Gomera 69\, 35100 San Fernando\, Spanien
GEO:27.767895;-15.585941
X-APPLE-STRUCTURED-LOCATION;VALUE=URI;X-ADDRESS=Calle Gomera 69\, 35100 San
  Fernando\, Spanien;X-APPLE-RADIUS=100;X-TITLE=Gemeindezentrum:geo:27.7678
 95,-15.585941
END:VEVENT
BEGIN:VTIMEZONE
TZID:Europe/Berlin
X-LIC-LOCATION:Europe/Berlin
BEGIN:STANDARD
DTSTART:20191027T020000
TZOFFSETFROM:+0200
TZOFFSETTO:+0100
TZNAME:CET
END:STANDARD
END:VTIMEZONE
END:VCALENDAR