BEGIN:VCALENDAR
VERSION:2.0
PRODID:-//wp-events-plugin.com//6.6.4.4//EN
TZID:Europe/Berlin
X-WR-TIMEZONE:Europe/Berlin
BEGIN:VEVENT
UID:589@kirche-gc.de
DTSTART;TZID=Europe/Lisbon;VALUE=DATE:20241107
DTEND;TZID=Europe/Lisbon;VALUE=DATE:20241108
DTSTAMP:20240923T110635Z
URL:https://www.kirche-gc.de/events/meditative-wanderung-donnerstag-7-11/
SUMMARY:Meditative Wanderung\, Donnerstag 7.11.
DESCRIPTION:Meditative Wanderung\, Donnerstag 7.11.\,\n&nbsp\;\n\nTreffpunk
 t Hotel Riu Palace an den Dünen\, 10.00 Uhr\, \nAnmeldung über Pfr. Fr
 öhlich
END:VEVENT
BEGIN:VTIMEZONE
TZID:Europe/Lisbon
X-LIC-LOCATION:Europe/Lisbon
BEGIN:STANDARD
DTSTART:20241027T010000
TZOFFSETFROM:+0100
TZOFFSETTO:+0000
TZNAME:WET
END:STANDARD
END:VTIMEZONE
END:VCALENDAR