BEGIN:VCALENDAR
VERSION:2.0
PRODID:-//wp-events-plugin.com//6.6.4.4//EN
TZID:Europe/Berlin
X-WR-TIMEZONE:Europe/Berlin
BEGIN:VEVENT
UID:637@kirche-gc.de
DTSTART;TZID=Europe/Lisbon:20251208T200000
DTEND;TZID=Europe/Lisbon:20251208T210000
DTSTAMP:20251130T113612Z
URL:https://www.kirche-gc.de/events/sakrale-musik-am-montagabend-im-templo
 -ecumenico-4/
SUMMARY:Sakrale Musik am Montagabend im Templo Ecuménico
DESCRIPTION:
END:VEVENT
BEGIN:VTIMEZONE
TZID:Europe/Lisbon
X-LIC-LOCATION:Europe/Lisbon
BEGIN:STANDARD
DTSTART:20251026T010000
TZOFFSETFROM:+0100
TZOFFSETTO:+0000
TZNAME:WET
END:STANDARD
END:VTIMEZONE
END:VCALENDAR