BEGIN:VCALENDAR
VERSION:2.0
PRODID:-//wp-events-plugin.com//6.6.4.4//EN
TZID:Europe/Berlin
X-WR-TIMEZONE:Europe/Berlin
BEGIN:VEVENT
UID:496@kirche-gc.de
DTSTART;TZID=Europe/Madrid:20230317T100000
DTEND;TZID=Europe/Madrid:20230317T113000
DTSTAMP:20230226T102421Z
URL:https://www.kirche-gc.de/events/treffpunkt-gespraech-konfessioneller-a
 ustausch-ueber-die-braeuche-in-der-passionszeit/
SUMMARY:Treffpunkt Gespräch: Konfessioneller Austausch über die Bräuche 
 in der Passionszeit
DESCRIPTION:Treffpunkt Gespräch:\n\nKonfessioneller Austausch über die Br
 äuche in der Passionszeit \n\n&nbsp\;
LOCATION:Gemeindezentrum\, Calle Gomera 69\, 35100 San Fernando\, Spanien
GEO:27.767895;-15.585941
X-APPLE-STRUCTURED-LOCATION;VALUE=URI;X-ADDRESS=Calle Gomera 69\, 35100 San
  Fernando\, Spanien;X-APPLE-RADIUS=100;X-TITLE=Gemeindezentrum:geo:27.7678
 95,-15.585941
END:VEVENT
BEGIN:VTIMEZONE
TZID:Europe/Madrid
X-LIC-LOCATION:Europe/Madrid
BEGIN:STANDARD
DTSTART:20221030T020000
TZOFFSETFROM:+0200
TZOFFSETTO:+0100
TZNAME:CET
END:STANDARD
END:VTIMEZONE
END:VCALENDAR